BEGIN:VCALENDAR
VERSION:2.0
PRODID:-//Здравей Здраве - ECPv6.15.20//NONSGML v1.0//EN
CALSCALE:GREGORIAN
METHOD:PUBLISH
X-WR-CALNAME:Здравей Здраве
X-ORIGINAL-URL:https://zdraveizdrave.org
X-WR-CALDESC:Събития за Здравей Здраве
REFRESH-INTERVAL;VALUE=DURATION:PT1H
X-Robots-Tag:noindex
X-PUBLISHED-TTL:PT1H
BEGIN:VTIMEZONE
TZID:Europe/Helsinki
BEGIN:DAYLIGHT
TZOFFSETFROM:+0200
TZOFFSETTO:+0300
TZNAME:EEST
DTSTART:20250330T010000
END:DAYLIGHT
BEGIN:STANDARD
TZOFFSETFROM:+0300
TZOFFSETTO:+0200
TZNAME:EET
DTSTART:20251026T010000
END:STANDARD
BEGIN:DAYLIGHT
TZOFFSETFROM:+0200
TZOFFSETTO:+0300
TZNAME:EEST
DTSTART:20260329T010000
END:DAYLIGHT
BEGIN:STANDARD
TZOFFSETFROM:+0300
TZOFFSETTO:+0200
TZNAME:EET
DTSTART:20261025T010000
END:STANDARD
BEGIN:DAYLIGHT
TZOFFSETFROM:+0200
TZOFFSETTO:+0300
TZNAME:EEST
DTSTART:20270328T010000
END:DAYLIGHT
BEGIN:STANDARD
TZOFFSETFROM:+0300
TZOFFSETTO:+0200
TZNAME:EET
DTSTART:20271031T010000
END:STANDARD
END:VTIMEZONE
BEGIN:VEVENT
DTSTART;TZID=Europe/Helsinki:20260516T100000
DTEND;TZID=Europe/Helsinki:20260516T102000
DTSTAMP:20260419T203514
CREATED:20260410T193814Z
LAST-MODIFIED:20260410T193814Z
UID:18990-1778925600-1778926800@zdraveizdrave.org
SUMMARY:Класически балет - БС Малките ангели
DESCRIPTION:
URL:https://zdraveizdrave.org/event/klasicheski-balet-bs-malkite-angeli/
LOCATION:АКТИВНОСТИ – Тераса Градска градина\, Градска градина до Дома на техниката\, Пловдив
CATEGORIES:Пловдив
END:VEVENT
BEGIN:VEVENT
DTSTART;TZID=Europe/Helsinki:20260516T100000
DTEND;TZID=Europe/Helsinki:20260516T104500
DTSTAMP:20260419T203514
CREATED:20260410T182624Z
LAST-MODIFIED:20260417T123214Z
UID:18926-1778925600-1778928300@zdraveizdrave.org
SUMMARY:„Здравей\, Здраве!“ като форма на организация в контекста на Интегралната философия - Живко Стоилов
DESCRIPTION:
URL:https://zdraveizdrave.org/event/zz-jivko-stoilov26/
LOCATION:КИНО ЗАЛА – ЛЕКЦИИ – ет.1\, Дом на техниката - ул. Гладстон 1\, Пловдив\, Bulgaria
CATEGORIES:Пловдив
ATTACH;FMTTYPE=image/webp:https://zdraveizdrave.org/wp-content/uploads/2026/04/jivkostoilov.webp
END:VEVENT
BEGIN:VEVENT
DTSTART;TZID=Europe/Helsinki:20260516T100000
DTEND;TZID=Europe/Helsinki:20260516T104500
DTSTAMP:20260419T203514
CREATED:20260410T185526Z
LAST-MODIFIED:20260417T124128Z
UID:18959-1778925600-1778928300@zdraveizdrave.org
SUMMARY:Клас Пилатес мат - Лилия Тодорова
DESCRIPTION:В този клас ще се фокусираме върху основите на Пилатес метода – контрол\, прецизност и дишане.  \nПрактиката е насочена към изграждане на силен „център“\,  подобряване на мобилността на ставите и коригиране на стойката\, често нарушена от заседналия начин на живот.  \nУпражненията са плавни\, но предизвикателни\, подходящи за всеки\, който иска да се чувства по-жизнен и стабилен в тялото си. Заедно ще освободим напрежението в гърба и ще тонизираме мускулатурата по балансиран и безопасен начин.
URL:https://zdraveizdrave.org/event/pilates-liliya-todorova/
LOCATION:ЗАЛА ПРАКТИКИ – ет.1\, Дом на техниката - ул. Гладстон 1\, Пловдив\, Bulgaria
CATEGORIES:Пловдив
END:VEVENT
BEGIN:VEVENT
DTSTART;TZID=Europe/Helsinki:20260516T103000
DTEND;TZID=Europe/Helsinki:20260516T110000
DTSTAMP:20260419T203514
CREATED:20260410T193604Z
LAST-MODIFIED:20260410T193604Z
UID:18985-1778927400-1778929200@zdraveizdrave.org
SUMMARY:Модерни танци за деца - Балет Електра Джуниър
DESCRIPTION:
URL:https://zdraveizdrave.org/event/moderni-tanczi-za-decza/
LOCATION:АКТИВНОСТИ – Тераса Градска градина\, Градска градина до Дома на техниката\, Пловдив
CATEGORIES:Пловдив
END:VEVENT
BEGIN:VEVENT
DTSTART;TZID=Europe/Helsinki:20260516T110000
DTEND;TZID=Europe/Helsinki:20260516T114500
DTSTAMP:20260419T203514
CREATED:20260410T182836Z
LAST-MODIFIED:20260410T183224Z
UID:18928-1778929200-1778931900@zdraveizdrave.org
SUMMARY:Geo-Space Health: Адаптиране към глобалните промени - Димитър Узунов
DESCRIPTION:
URL:https://zdraveizdrave.org/event/geo-space-health-adaptirane-kam-globalnite-promeni/
LOCATION:КИНО ЗАЛА – ЛЕКЦИИ – ет.1\, Дом на техниката - ул. Гладстон 1\, Пловдив\, Bulgaria
CATEGORIES:Пловдив
END:VEVENT
BEGIN:VEVENT
DTSTART;TZID=Europe/Helsinki:20260516T110000
DTEND;TZID=Europe/Helsinki:20260516T114500
DTSTAMP:20260419T203514
CREATED:20260410T185621Z
LAST-MODIFIED:20260417T124736Z
UID:18961-1778929200-1778931900@zdraveizdrave.org
SUMMARY:Сакрална архитектура на тялото - Светослава Хаджиева
DESCRIPTION:Този клас е покана към едно дълбоко пътешествие навътре – към мъдростта\, структурата и сакралната геометрия\, която живее в нашето тяло. Чрез внимателно подбрани движения\, дишане и осъзнато присъствие в тялото\, ще изследваме как то е изградено като жива архитектура – пространство\, в което енергията\, формата и съзнанието се срещат. \nЩе се учим да усещаме вътрешната подредба\, която поддържа стабилност\, лекота и поток. Когато тялото влезе в своята естествена правилност\, движението става по-свободно\, дишането – по-дълбоко\, а присъствието – по-цялостно. \nКласът съчетава елементи на осъзнато движение\, работа с диханието\, фина телесна чувствителност и вътрешно наблюдение. \nПодходящ е както за хора с опит в телесни практики\, така и за начинаещи\, които искат да изградят по-дълбока връзка със своето тяло.
URL:https://zdraveizdrave.org/event/sakralna-arhitektura-na-tyaloto-svetoslava-hadzhieva/
LOCATION:ЗАЛА ПРАКТИКИ – ет.1\, Дом на техниката - ул. Гладстон 1\, Пловдив\, Bulgaria
CATEGORIES:Пловдив
ATTACH;FMTTYPE=image/webp:https://zdraveizdrave.org/wp-content/uploads/2026/04/sat-zz.webp
END:VEVENT
BEGIN:VEVENT
DTSTART;TZID=Europe/Helsinki:20260516T110000
DTEND;TZID=Europe/Helsinki:20260516T114500
DTSTAMP:20260419T203514
CREATED:20260410T193705Z
LAST-MODIFIED:20260410T193705Z
UID:18988-1778929200-1778931900@zdraveizdrave.org
SUMMARY:Дансело - Маги Веселинова
DESCRIPTION:
URL:https://zdraveizdrave.org/event/danselo-magi-veselinova/
LOCATION:АКТИВНОСТИ – Тераса Градска градина\, Градска градина до Дома на техниката\, Пловдив
CATEGORIES:Пловдив
END:VEVENT
BEGIN:VEVENT
DTSTART;TZID=Europe/Helsinki:20260516T120000
DTEND;TZID=Europe/Helsinki:20260516T124500
DTSTAMP:20260419T203514
CREATED:20260306T204852Z
LAST-MODIFIED:20260306T205952Z
UID:18572-1778932800-1778935500@zdraveizdrave.org
SUMMARY:Вътрешни пространства – външни измерения: работа с подсъзнателните съдържания в терапевтичния процес - Ива Кирова
DESCRIPTION:Подсъзнанието често е свързвано единствено с място\, пълно с травми и спомени\, които сме избрали да забравим. Всъщност това е огромно ресурсно поле\, което съхранява информация за нашето съществуване във връзка с личния ни път\, рода\, другите колективни системи и цялото човечество. Можем да вземем подкрепа от това поле\, когато в тялото си носим усещания\, за които нямаме обяснение откъде са\, или имаме чувството\, че живеем нечий чужд живот. В тази среща ще погледнем към това пространство и ще използваме лесни подходи за работа с тялото\, чрез които можем да получим повече яснота\, да променяме спомени и да постигнем удовлетворяваща връзка със себе си и другите. 
URL:https://zdraveizdrave.org/event/plovdiv-26-iva-kirova/
LOCATION:КИНО ЗАЛА 1\, Дом на науката и техниката\, Пловдив
CATEGORIES:Пловдив
ATTACH;FMTTYPE=image/webp:https://zdraveizdrave.org/wp-content/uploads/2026/03/iva-kirova.webp
END:VEVENT
BEGIN:VEVENT
DTSTART;TZID=Europe/Helsinki:20260516T120000
DTEND;TZID=Europe/Helsinki:20260516T124500
DTSTAMP:20260419T203514
CREATED:20260410T190821Z
LAST-MODIFIED:20260417T124921Z
UID:18963-1778932800-1778935500@zdraveizdrave.org
SUMMARY:Йогалатес - Анелия Лазарова
DESCRIPTION:Ще проведем вдъхновяваща практика по Йогалатес – хармоничен съюз между мъдростта на йога и прецизността на пилатес.\nТова събитие е специално създадено за жени\, търсещи баланс и здраве. Заедно ще работим за здрава коремна мускулатура\, правилна стойка и гъвкавост\, ще развиваме своята концентрация  и координация чрез забавни елементи. \nПолзи от практиката: \n● Силно тяло: Укрепване на мускулите и мобилност на ставите.\n● Спокоен ум: Намаляване на стреса и емоционално разтоварване.\n● Връзка: Споделено време
URL:https://zdraveizdrave.org/event/yogalates-aneliya-lazarova/
LOCATION:ЗАЛА ПРАКТИКИ – ет.1\, Дом на техниката - ул. Гладстон 1\, Пловдив\, Bulgaria
CATEGORIES:Пловдив
END:VEVENT
BEGIN:VEVENT
DTSTART;TZID=Europe/Helsinki:20260516T130000
DTEND;TZID=Europe/Helsinki:20260516T134500
DTSTAMP:20260419T203514
CREATED:20260410T183116Z
LAST-MODIFIED:20260417T123022Z
UID:18930-1778936400-1778939100@zdraveizdrave.org
SUMMARY:Когато егото стане духовно - Николай Сираков
DESCRIPTION:Всички започваме духовния си път с искреното желание да станем “по-добри”\, “по-спокойни”\, “по-осъзнати”. Но вместо да разтваряме егото си\, ние го обличаме в нови\, по-красиви дрехи. Заменяме стремежа към пари\, власт и социален статус със стремеж към висше състояние\, духовни титли и трупане на знания.  \nЩе разгледаме: \n\nЛицата на заблудата\nМедитацията като бягство\nПътят на безпощадната честност
URL:https://zdraveizdrave.org/event/kogato-egoto-stane-duhovno-nikolay-sirakov/
LOCATION:КИНО ЗАЛА – ЛЕКЦИИ – ет.1\, Дом на техниката - ул. Гладстон 1\, Пловдив\, Bulgaria
CATEGORIES:Пловдив
ATTACH;FMTTYPE=image/webp:https://zdraveizdrave.org/wp-content/uploads/2026/04/nikolai-sirakov.webp
END:VEVENT
BEGIN:VEVENT
DTSTART;TZID=Europe/Helsinki:20260516T130000
DTEND;TZID=Europe/Helsinki:20260516T134500
DTSTAMP:20260419T203514
CREATED:20260410T191003Z
LAST-MODIFIED:20260417T125326Z
UID:18965-1778936400-1778939100@zdraveizdrave.org
SUMMARY:Йога стречинг и релакс - Венета Крумова
DESCRIPTION:Йога стречинг и релакс е клас\, създаден да освободи напрежението в тялото и ума\, като ви помогне да възстановите своята гъвкавост\, лекота и вътрешен баланс. \nЧрез специално подбрани йога пози\, насочени към дълбоко разтягане на мускулите\, съчетани с дихателни техники и релаксация\, практиката подпомага отпускането на тялото и възстановяването след натоварване. Всяка практика е плавна и нежна\, с акцент върху задържането в позите\, което позволява на мускулите постепенно да се отпуснат и удължат. \nТова създава усещане за освобождаване\, лекота и по-голяма подвижност в тялото – подходящо както за начинаещи\, така и за напреднали.
URL:https://zdraveizdrave.org/event/yoga-streching-i-relaks-veneta-krumova/
LOCATION:ЗАЛА ПРАКТИКИ – ет.1\, Дом на техниката - ул. Гладстон 1\, Пловдив\, Bulgaria
CATEGORIES:Пловдив
ATTACH;FMTTYPE=image/webp:https://zdraveizdrave.org/wp-content/uploads/2026/04/vemi-zz-pki.webp
END:VEVENT
BEGIN:VEVENT
DTSTART;TZID=Europe/Helsinki:20260516T130000
DTEND;TZID=Europe/Helsinki:20260516T134500
DTSTAMP:20260419T203514
CREATED:20260410T193918Z
LAST-MODIFIED:20260410T193918Z
UID:18992-1778936400-1778939100@zdraveizdrave.org
SUMMARY:Тай-чи - Едмонт Будакян
DESCRIPTION:
URL:https://zdraveizdrave.org/event/tay-chi-edmont-budakyan/
LOCATION:АКТИВНОСТИ – Тераса Градска градина\, Градска градина до Дома на техниката\, Пловдив
CATEGORIES:Пловдив
END:VEVENT
BEGIN:VEVENT
DTSTART;TZID=Europe/Helsinki:20260516T140000
DTEND;TZID=Europe/Helsinki:20260516T141500
DTSTAMP:20260419T203514
CREATED:20260410T191112Z
LAST-MODIFIED:20260417T125508Z
UID:18967-1778940000-1778940900@zdraveizdrave.org
SUMMARY:Йога за здраве и тонус - Деница Илиева
DESCRIPTION:В рамките на фестивала Здравей Здраве в Пловдив ви каня на нежна и възстановяваща практика\, която съчетава леки йога пози\, усуквания и разтягания с дълбока водена йога нидра\, за да подкрепим както тялото\, така и ума. \nЗапочваме с плавни и достъпни движения\, насочени към основните зони на напрежение в гърба\, раменете\, шията\, бедрата и таза. Практиката е щадяща за ставите и подходяща за хора с различни нива на подвижност\, като същевременно стимулира естествените оздравителни процеси в тялото. \nЧрез внимателни усуквания и разтягания ще освободим мускулни блокажи\, ще подобрим подвижността и гъвкавостта и ще активираме циркулацията на кръвта и лимфата – подпомагайки имунната система\, храносмилането и цялостното усещане за лекота. С всяко движение изпращаме сигнали към нервната система\, че сме в безопасност – основа за истинско отпускане\, регенерация и вътрешен баланс. \nТази подготовка естествено ни води към водена практика по йога нидра – състояние на осъзната почивка\, при което тялото се отпуска дълбоко\, а умът остава леко буден\, балансирайки между сън и медитация. Ще насочим вниманието си към постепенно отпускане на всяка част от тялото\, ще работим с дишането и вътрешни образи\, създавайки пространство за тишина и вътрешен мир. \nВ това състояние мозъкът навлиза в алфа и тета честоти\, които подпомагат неврологичната регулация\, творчеството и процесите на възстановяване. Практиката благоприятства редуцирането на тревожност\, подобряването на съня и възстановяването при психическо и емоционално изтощение. \nСъбитието е подходящо за всички нива и за всеки\, който търси начин да освободи напрежението в тялото и ума\, да се свърже с вътрешния си покой и да възстанови баланса в ежедневието си.\nНе е необходим предишен опит с йога или медитация. Движенията са адаптивни и се изпълняват бавно\, с внимание към дишането и вътрешните усещания. \nПОЛЗИ:\n– Освобождаване на физическо напрежение\n– Подобрена подвижност и гъвкавост\n– Подкрепа за нервната система\n– Намаляване на стреса и тревожността\n– По-добро качество на съня\n– Дълбоко усещане за покой и вътрешен баланс \n 
URL:https://zdraveizdrave.org/event/yoga-za-zdrave-denicza-ilieva/
LOCATION:ЗАЛА ПРАКТИКИ – ет.1\, Дом на техниката - ул. Гладстон 1\, Пловдив\, Bulgaria
CATEGORIES:Пловдив
END:VEVENT
BEGIN:VEVENT
DTSTART;TZID=Europe/Helsinki:20260516T141500
DTEND;TZID=Europe/Helsinki:20260516T150000
DTSTAMP:20260419T203514
CREATED:20260410T183443Z
LAST-MODIFIED:20260417T123450Z
UID:18935-1778940900-1778943600@zdraveizdrave.org
SUMMARY:Чувствата и емоциите при мъжете / Път към по-дълбока цялостност - Руслан Селенов
DESCRIPTION:Темата е свързана с чувствата и емоциите при мъжа – осъзнаването на вътрешния емоционален свят  като ключ към пълноценен живот\, по-дълбока цялостност и хармонични партньорски отношения.
URL:https://zdraveizdrave.org/event/czyalostnost-ruslan-selenov/
LOCATION:КИНО ЗАЛА – ЛЕКЦИИ – ет.1\, Дом на техниката - ул. Гладстон 1\, Пловдив\, Bulgaria
CATEGORIES:Пловдив
ATTACH;FMTTYPE=image/webp:https://zdraveizdrave.org/wp-content/uploads/2026/04/ruslansel.webp
END:VEVENT
BEGIN:VEVENT
DTSTART;TZID=Europe/Helsinki:20260516T141500
DTEND;TZID=Europe/Helsinki:20260516T150000
DTSTAMP:20260419T203514
CREATED:20260410T195426Z
LAST-MODIFIED:20260410T195426Z
UID:19012-1778940900-1778943600@zdraveizdrave.org
SUMMARY:Fusion dance kids - Елизабет Марчовска
DESCRIPTION:
URL:https://zdraveizdrave.org/event/fusion-dance-kids-elizabet-marchovska/
LOCATION:АКТИВНОСТИ – Тераса Градска градина\, Градска градина до Дома на техниката\, Пловдив
CATEGORIES:Пловдив
END:VEVENT
BEGIN:VEVENT
DTSTART;TZID=Europe/Helsinki:20260516T151500
DTEND;TZID=Europe/Helsinki:20260516T160000
DTSTAMP:20260419T203514
CREATED:20260410T183615Z
LAST-MODIFIED:20260410T183615Z
UID:18937-1778944500-1778947200@zdraveizdrave.org
SUMMARY:Астрология\, медицина хомеопатия ръка за ръка - Мирена Димитрова
DESCRIPTION:
URL:https://zdraveizdrave.org/event/astrologiya-mirena-dimitrova/
LOCATION:КИНО ЗАЛА – ЛЕКЦИИ – ет.1\, Дом на техниката - ул. Гладстон 1\, Пловдив\, Bulgaria
CATEGORIES:Пловдив
END:VEVENT
BEGIN:VEVENT
DTSTART;TZID=Europe/Helsinki:20260516T151500
DTEND;TZID=Europe/Helsinki:20260516T160000
DTSTAMP:20260419T203514
CREATED:20260410T191248Z
LAST-MODIFIED:20260417T125651Z
UID:18969-1778944500-1778947200@zdraveizdrave.org
SUMMARY:Чистото поле на Любовта – Звукова медитация - Радосвета Павлова
DESCRIPTION:
URL:https://zdraveizdrave.org/event/zvukova-meditacziya-radosveta-pavlova/
LOCATION:ЗАЛА ПРАКТИКИ – ет.1\, Дом на техниката - ул. Гладстон 1\, Пловдив\, Bulgaria
CATEGORIES:Пловдив
END:VEVENT
BEGIN:VEVENT
DTSTART;TZID=Europe/Helsinki:20260516T161500
DTEND;TZID=Europe/Helsinki:20260516T170000
DTSTAMP:20260419T203514
CREATED:20260410T183808Z
LAST-MODIFIED:20260410T183808Z
UID:18939-1778948100-1778950800@zdraveizdrave.org
SUMMARY:Панически атаки\, Хоопонопоно - Атанас Колев
DESCRIPTION:
URL:https://zdraveizdrave.org/event/panicheski-ataki-atanas-kolev/
CATEGORIES:Пловдив
END:VEVENT
BEGIN:VEVENT
DTSTART;TZID=Europe/Helsinki:20260516T161500
DTEND;TZID=Europe/Helsinki:20260516T170000
DTSTAMP:20260419T203514
CREATED:20260410T191515Z
LAST-MODIFIED:20260417T130005Z
UID:18971-1778948100-1778950800@zdraveizdrave.org
SUMMARY:Йога за бременни - Катя Кривошиева
DESCRIPTION:Практикуване на йога в този период ще ви помогне да избегнете проблеми като наднормено тегло\, отоци\, стрии\, болки в гърба\, ще ви е по-лесно да се справите с промените в настроението\, със страховете си. Практиката за бременни ще ви подготви изключително адекватно за леко раждане. \nВ класът се набляга на упражнения за тазовото дъно\, разтягания и адаптирани дихателни техники с фокус изграждане на правилна техника за дишане по време на самото раждане. За безопасното и здравословно изпълнение на физическите пози се използват йога реквизити\, с които залата е напълно оборудвана: йога тухли\, големи йога възглавници\, колани\, ластици. Дълги релаксации по методите на йога-нидра и съзидателна визуализация с цел – постигане на пренатално общуване на майката с нейното бъдеще дете и подготовката ѝ за раждането е начинът\, по който се завършва всеки клас.
URL:https://zdraveizdrave.org/event/yoga-za-bremenni-katya/
LOCATION:ЗАЛА ПРАКТИКИ – ет.1\, Дом на техниката - ул. Гладстон 1\, Пловдив\, Bulgaria
CATEGORIES:Пловдив
END:VEVENT
BEGIN:VEVENT
DTSTART;TZID=Europe/Helsinki:20260516T161500
DTEND;TZID=Europe/Helsinki:20260516T170000
DTSTAMP:20260419T203514
CREATED:20260410T194026Z
LAST-MODIFIED:20260410T194026Z
UID:18994-1778948100-1778950800@zdraveizdrave.org
SUMMARY:Хип-хоп танци - Dance Home
DESCRIPTION:
URL:https://zdraveizdrave.org/event/hip-hop-tanczi-dance-home/
LOCATION:АКТИВНОСТИ – Тераса Градска градина\, Градска градина до Дома на техниката\, Пловдив
CATEGORIES:Пловдив
END:VEVENT
BEGIN:VEVENT
DTSTART;TZID=Europe/Helsinki:20260516T171500
DTEND;TZID=Europe/Helsinki:20260516T180000
DTSTAMP:20260419T203514
CREATED:20260410T183959Z
LAST-MODIFIED:20260417T123826Z
UID:18941-1778951700-1778954400@zdraveizdrave.org
SUMMARY:Дихателните практики - Да се отвориш към Живота - Гергана Стратева
DESCRIPTION:Дъхът носи в себе си символиката за началото\, средата и края. Рядко се замисляме\, че той бележи първия и последния миг на нашия живот\, докато същевременно ни съпътства по време на всяко наше преживяване. \nДишането от своя страна е единствената автономна метаболитна функция в тялото ни\, която можем да управляваме съзнателно. Това никак не е случайно. Дишането пряко влияе върху нашето здраве. \nВ предстоящата лекция ще разгледаме връзката между съзнателното дишане и нашия вътрешен свят. Ще разберем как дихателните практики могат да пренаредят начина по който се чувстваме и преживяваме живота\, особено в моменти и периоди на трудности. Ще чуете една лична история за промяна и нов професионален път след срещата с Интегративно дишане.
URL:https://zdraveizdrave.org/event/dihatelnite-praktiki-da-se-otvorish-kam-zhivota-gergana-strateva/
LOCATION:КИНО ЗАЛА – ЛЕКЦИИ – ет.1\, Дом на техниката - ул. Гладстон 1\, Пловдив\, Bulgaria
CATEGORIES:Пловдив
ATTACH;FMTTYPE=image/webp:https://zdraveizdrave.org/wp-content/uploads/2026/04/geri-zz-plovdiv.webp
END:VEVENT
BEGIN:VEVENT
DTSTART;TZID=Europe/Helsinki:20260516T171500
DTEND;TZID=Europe/Helsinki:20260516T180000
DTSTAMP:20260419T203514
CREATED:20260410T191631Z
LAST-MODIFIED:20260417T130226Z
UID:18973-1778951700-1778954400@zdraveizdrave.org
SUMMARY:Хо’опонопоно практика за изчистване на проиграващи се спомени - Атанас Колев
DESCRIPTION:В тази практика ще разберете как се прилага тази древна хавайска практика\, която помага на човек да се освободи от вътрешните причини зад проблемите в живота си. \nСпоред Хо’опонопоно много от трудностите\, които преживяваме – във взаимоотношенията\, здравето или финансите – са свързани с дълбоко заложени спомени\, модели и вярвания. \nЧрез тази проста\, но много ефективна практика човек се учи как да поеме отговорност за вътрешния си свят\, да изчисти натрупаните програми и да възстанови хармонията и баланса обратно в живота си. \nВ края на срещата ще завършим с медитация с четирите фрази на Хо‘опонопоно.
URL:https://zdraveizdrave.org/event/meditacziya-s-hooponopono-atanas-kolev/
LOCATION:ЗАЛА ПРАКТИКИ – ет.1\, Дом на техниката - ул. Гладстон 1\, Пловдив\, Bulgaria
CATEGORIES:Пловдив
ATTACH;FMTTYPE=image/webp:https://zdraveizdrave.org/wp-content/uploads/2026/04/atanas-kolev-zz-pl.webp
END:VEVENT
BEGIN:VEVENT
DTSTART;TZID=Europe/Helsinki:20260516T171500
DTEND;TZID=Europe/Helsinki:20260516T180000
DTSTAMP:20260419T203514
CREATED:20260410T194209Z
LAST-MODIFIED:20260410T194209Z
UID:18996-1778951700-1778954400@zdraveizdrave.org
SUMMARY:Аржентинско танго - Танго Афисионадо
DESCRIPTION:
URL:https://zdraveizdrave.org/event/arzhentinsko-tango-tango-afisionado/
LOCATION:АКТИВНОСТИ – Тераса Градска градина\, Градска градина до Дома на техниката\, Пловдив
CATEGORIES:Пловдив
END:VEVENT
BEGIN:VEVENT
DTSTART;TZID=Europe/Helsinki:20260517T100000
DTEND;TZID=Europe/Helsinki:20260517T104500
DTSTAMP:20260419T203514
CREATED:20260410T184311Z
LAST-MODIFIED:20260410T184311Z
UID:18943-1779012000-1779014700@zdraveizdrave.org
SUMMARY:От липса към изобилие: пътят на благодарността - Марияна Стракова
DESCRIPTION:
URL:https://zdraveizdrave.org/event/blagodarnostta-mariyana-strakova/
LOCATION:КИНО ЗАЛА – ЛЕКЦИИ – ет.1\, Дом на техниката - ул. Гладстон 1\, Пловдив\, Bulgaria
CATEGORIES:Пловдив
END:VEVENT
BEGIN:VEVENT
DTSTART;TZID=Europe/Helsinki:20260517T100000
DTEND;TZID=Europe/Helsinki:20260517T104500
DTSTAMP:20260419T203514
CREATED:20260410T192228Z
LAST-MODIFIED:20260410T192228Z
UID:18975-1779012000-1779014700@zdraveizdrave.org
SUMMARY:Дишане - Гергана Стратева
DESCRIPTION:
URL:https://zdraveizdrave.org/event/dishane-gergana-strateva/
LOCATION:ЗАЛА ПРАКТИКИ – ет.1\, Дом на техниката - ул. Гладстон 1\, Пловдив\, Bulgaria
CATEGORIES:Пловдив
END:VEVENT
BEGIN:VEVENT
DTSTART;TZID=Europe/Helsinki:20260517T100000
DTEND;TZID=Europe/Helsinki:20260517T104500
DTSTAMP:20260419T203514
CREATED:20260410T194340Z
LAST-MODIFIED:20260410T194340Z
UID:18998-1779012000-1779014700@zdraveizdrave.org
SUMMARY:Тай Чи - Димитър Тончев
DESCRIPTION:
URL:https://zdraveizdrave.org/event/tay-chi-dimitar-tonchev/
LOCATION:АКТИВНОСТИ – Тераса Градска градина\, Градска градина до Дома на техниката\, Пловдив
CATEGORIES:Пловдив
END:VEVENT
BEGIN:VEVENT
DTSTART;TZID=Europe/Helsinki:20260517T110000
DTEND;TZID=Europe/Helsinki:20260517T114500
DTSTAMP:20260419T203514
CREATED:20260410T192319Z
LAST-MODIFIED:20260410T192353Z
UID:18977-1779015600-1779018300@zdraveizdrave.org
SUMMARY:Изправителна гимнастика - Диана Кехайова
DESCRIPTION:
URL:https://zdraveizdrave.org/event/izpravitelna-gimnastika-diana-kehayova/
LOCATION:ЗАЛА ПРАКТИКИ – ет.1\, Дом на техниката - ул. Гладстон 1\, Пловдив\, Bulgaria
CATEGORIES:Пловдив
END:VEVENT
BEGIN:VEVENT
DTSTART;TZID=Europe/Helsinki:20260517T110000
DTEND;TZID=Europe/Helsinki:20260517T114500
DTSTAMP:20260419T203514
CREATED:20260410T194451Z
LAST-MODIFIED:20260410T194451Z
UID:19000-1779015600-1779018300@zdraveizdrave.org
SUMMARY:Танци за бебета - Клуб "Усмивките"
DESCRIPTION:
URL:https://zdraveizdrave.org/event/tanczi-za-bebeta-klub-usmivkite/
LOCATION:АКТИВНОСТИ – Тераса Градска градина\, Градска градина до Дома на техниката\, Пловдив
CATEGORIES:Пловдив
END:VEVENT
BEGIN:VEVENT
DTSTART;TZID=Europe/Helsinki:20260517T110000
DTEND;TZID=Europe/Helsinki:20260623T114500
DTSTAMP:20260419T203514
CREATED:20260410T184503Z
LAST-MODIFIED:20260410T184503Z
UID:18945-1779015600-1782215100@zdraveizdrave.org
SUMMARY:Балансът мъжка-женска енергия през родовото знание на предците ни - Галина Костова
DESCRIPTION:
URL:https://zdraveizdrave.org/event/balansat-mazhka-zhenska-galina-kostova/
LOCATION:КИНО ЗАЛА – ЛЕКЦИИ – ет.1\, Дом на техниката - ул. Гладстон 1\, Пловдив\, Bulgaria
CATEGORIES:Пловдив
END:VEVENT
BEGIN:VEVENT
DTSTART;TZID=Europe/Helsinki:20260517T120000
DTEND;TZID=Europe/Helsinki:20260517T124500
DTSTAMP:20260419T203514
CREATED:20260410T184644Z
LAST-MODIFIED:20260410T184644Z
UID:18947-1779019200-1779021900@zdraveizdrave.org
SUMMARY:„Какво ще кажат другите?“ – нов прочит на древния страх\, който продължава да управлява решенията ни и през 2026 год. - Диана Алексиева
DESCRIPTION:
URL:https://zdraveizdrave.org/event/kakvo-sthe-kazhat-drugite-nov-prochit-na-drevniya-strah-koyto-prodalzhava-da-upravlyava-resheniyata-ni-i-prez-2026-god-diana-aleksieva/
LOCATION:КИНО ЗАЛА – ЛЕКЦИИ – ет.1\, Дом на техниката - ул. Гладстон 1\, Пловдив\, Bulgaria
CATEGORIES:Пловдив
END:VEVENT
END:VCALENDAR